BEGIN:VCALENDAR
METHOD:PUBLISH
CALSCALE:GREGORIAN
PRODID://Microsoft Corporation//Outlook 11.0 MIMEDIR//EN
VERSION:2.0
BEGIN:VEVENT
DTSTART;VALUE=DATE:20230412T170000
DTEND;VLUE=DATE:20230412T190000
X-MICROSOFT-CDO-IMPORTANCE:1
DESCRIPTION:A 10ª Jornada Luso-Brasileira de Arbitragem está de volta no dia 12 de abril!\nO evento decorre na sede da Câmara de Comércio e Indústria Portuguesa, numa organização conjunta entre o Centro de Arbitragem Comercial, a Associação Portuguesa de Arbitragem, o Centro de Arbitragem e Mediação da Câmara de Comércio Brasil-Canadá e o Comité Brasileiro de Arbitragem.\nAo longo da sessão os oradores presentes vão debater os temas , a divulgação de dados pelas câmaras arbitrais e a publicação de laudos arbitrais.\nFaça aqui a sua inscrição gratuita\n\n\nCategoria: Evento\n\nPrograma: https://www.centrodearbitragem.pt/xms/files/Programa_em_PDF.pdf
DTSTAMP:20230412T170000
CLASS:PUBLIC
PRIORITY:5
SEQUENCE:0
SUMMARY:10ª Jornada Luso-Brasileira de Arbitragem
TRANSP:OPAQUE
UID:event_1024@centrodearbitragem.pt
BEGIN:VALARM
ACTION:DISPLAY
DESCRIPTION:Reminder
TRIGGER:-PT60M
END:VALARM
END:VEVENT
END:VCALENDAR